BEGIN:VCALENDAR
VERSION:2.0
PRODID:-//Kur- und Knappenkapelle Fredeburg - ECPv6.5.1.6//NONSGML v1.0//EN
CALSCALE:GREGORIAN
METHOD:PUBLISH
X-WR-CALNAME:Kur- und Knappenkapelle Fredeburg
X-ORIGINAL-URL:https://www.kur-und-knappenkapelle.de
X-WR-CALDESC:Veranstaltungen für Kur- und Knappenkapelle Fredeburg
REFRESH-INTERVAL;VALUE=DURATION:PT1H
X-Robots-Tag:noindex
X-PUBLISHED-TTL:PT1H
BEGIN:VTIMEZONE
TZID:Europe/Berlin
BEGIN:DAYLIGHT
TZOFFSETFROM:+0100
TZOFFSETTO:+0200
TZNAME:CEST
DTSTART:20260329T010000
END:DAYLIGHT
BEGIN:STANDARD
TZOFFSETFROM:+0200
TZOFFSETTO:+0100
TZNAME:CET
DTSTART:20261025T010000
END:STANDARD
END:VTIMEZONE
BEGIN:VEVENT
DTSTART;TZID=Europe/Berlin:20260418T160000
DTEND;TZID=Europe/Berlin:20260418T220000
DTSTAMP:20260420T111049
CREATED:20260222T093530Z
LAST-MODIFIED:20260222T093530Z
UID:461-1776528000-1776549600@www.kur-und-knappenkapelle.de
SUMMARY:Generalversammlung Schützenbruderschaft
DESCRIPTION:
URL:https://www.kur-und-knappenkapelle.de/event/generalversammlung-schuetzenbruderschaft-2/
LOCATION:Kurhaus Bad Fredeburg\, Am Kurhaus\, Bad Fredeburg\, 57392\, Deutschland
END:VEVENT
END:VCALENDAR